BEGIN:VCALENDAR
VERSION:2.0
PRODID:SchoolNow
CALSCALE:GREGORIAN
BEGIN:VEVENT
UID:ebc8ca2a-d633-11f0-beae-0afffffae7bb
DTSTAMP:20251216T214632Z
SUMMARY:Fierce Travel Ball Practice 6:45pm - 8:30pm
LOCATION:PMS-1-PMS Gymnasium (750)
URL;VALUE=URI:https://www.polson.k12.mt.us/polson-middle-school/calendar/88
 21559/fierce-travel-ball-practice-6-45pm-8-30pm
DTSTART:20260108T014500Z
DTEND:20260108T033000Z
END:VEVENT
END:VCALENDAR
