BEGIN:VCALENDAR
VERSION:2.0
PRODID:SchoolNow
CALSCALE:GREGORIAN
BEGIN:VEVENT
UID:22dfcb4c-d19f-11f0-a685-0a58a9feac02
DTSTAMP:20251216T214632Z
SUMMARY:MS BBB 8/8 vs. Hamilton\, 4:00/5:15
LOCATION:PMS-1-PMS Gymnasium (750)
URL;VALUE=URI:https://www.polson.k12.mt.us/polson-middle-school/calendar/88
 18124/ms-bbb-8-8-vs-hamilton-4-00-5-15
DTSTART:20251205T230000Z
DTEND:20251206T014500Z
END:VEVENT
END:VCALENDAR
