BEGIN:VCALENDAR
VERSION:2.0
PRODID:SchoolNow
CALSCALE:GREGORIAN
BEGIN:VEVENT
UID:31733ca4-d139-11f0-8512-0a58a9feac02
DTSTAMP:20251216T214632Z
SUMMARY:PMS GYM CLOSURE for refinishing Dec 20-Jan 4
LOCATION:PMS-1-PMS Gymnasium (750)
URL;VALUE=URI:https://www.polson.k12.mt.us/polson-middle-school/calendar/88
 17436/pms-gym-closure-for-refinishing-dec-20-jan-4
DTSTART:20251229T070000Z
DTEND:20251230T070000Z
END:VEVENT
END:VCALENDAR
