BEGIN:VCALENDAR
VERSION:2.0
PRODID:SchoolNow
CALSCALE:GREGORIAN
BEGIN:VEVENT
UID:464c2ad4-cfd4-11f0-a0fa-0a58a9feac02
DTSTAMP:20251216T214632Z
SUMMARY:Open Gym Hardball
URL;VALUE=URI:https://www.polson.k12.mt.us/polson-middle-school/calendar/88
 16221/open-gym-hardball
DTSTART:20260419T160000Z
DTEND:20260420T000000Z
END:VEVENT
END:VCALENDAR
