BEGIN:VCALENDAR
VERSION:2.0
PRODID:SchoolNow
CALSCALE:GREGORIAN
BEGIN:VEVENT
UID:464c28ae-cfd4-11f0-8f0f-0a58a9feac02
DTSTAMP:20251216T214632Z
SUMMARY:Open Gym Hardball
URL;VALUE=URI:https://www.polson.k12.mt.us/polson-middle-school/calendar/88
 16219/open-gym-hardball
DTSTART:20260405T160000Z
DTEND:20260406T000000Z
END:VEVENT
END:VCALENDAR
