BEGIN:VCALENDAR
VERSION:2.0
PRODID:SchoolNow
CALSCALE:GREGORIAN
BEGIN:VEVENT
UID:464c276e-cfd4-11f0-8984-0a58a9feac02
DTSTAMP:20251216T214632Z
SUMMARY:Open Gym Hardball
URL;VALUE=URI:https://www.polson.k12.mt.us/polson-middle-school/calendar/88
 16218/open-gym-hardball
DTSTART:20260329T160000Z
DTEND:20260330T000000Z
END:VEVENT
END:VCALENDAR
