BEGIN:VCALENDAR
VERSION:2.0
PRODID:SchoolNow
CALSCALE:GREGORIAN
BEGIN:VEVENT
UID:464c23d6-cfd4-11f0-9552-0a58a9feac02
DTSTAMP:20251216T214632Z
SUMMARY:Open Gym Hardball
URL;VALUE=URI:https://www.polson.k12.mt.us/polson-middle-school/calendar/88
 16217/open-gym-hardball
DTSTART:20260322T160000Z
DTEND:20260323T000000Z
END:VEVENT
END:VCALENDAR
