BEGIN:VCALENDAR
VERSION:2.0
PRODID:SchoolNow
CALSCALE:GREGORIAN
BEGIN:VEVENT
UID:461b567a-cfd4-11f0-8b57-0a58a9feac02
DTSTAMP:20251216T214632Z
SUMMARY:AVID Field Trip - SpectrUM
URL;VALUE=URI:https://www.polson.k12.mt.us/polson-middle-school/calendar/88
 16216/avid-field-trip-spectrum
DTSTART;VALUE=DATE:20251212
DTEND;VALUE=DATE:20251213
END:VEVENT
END:VCALENDAR
