BEGIN:VCALENDAR
VERSION:2.0
PRODID:SchoolNow
CALSCALE:GREGORIAN
BEGIN:VEVENT
UID:599e47fc-ced5-11f0-83e4-0a58a9feac02
DTSTAMP:20251216T214632Z
SUMMARY:MS BBB- 8th KMS 3 Day Tournament- Game times TBD
URL;VALUE=URI:https://www.polson.k12.mt.us/polson-middle-school/calendar/88
 14589/ms-bbb-8th-kms-3-day-tournament-game-times-tbd
DTSTART:20251210T150000Z
DTEND:20251210T150100Z
END:VEVENT
END:VCALENDAR
