BEGIN:VCALENDAR
VERSION:2.0
PRODID:SchoolNow
CALSCALE:GREGORIAN
BEGIN:VEVENT
UID:599e4338-ced5-11f0-97df-0a58a9feac02
DTSTAMP:20251216T214632Z
SUMMARY:PATT Meeting
URL;VALUE=URI:https://www.polson.k12.mt.us/polson-middle-school/calendar/88
 14588/patt-meeting
DTSTART:20251202T010000Z
DTEND:20251202T020000Z
END:VEVENT
END:VCALENDAR
