BEGIN:VCALENDAR
VERSION:2.0
PRODID:SchoolNow
CALSCALE:GREGORIAN
BEGIN:VEVENT
UID:0bbe9762-c0b1-11f0-9db3-0a58a9feac02
DTSTAMP:20251216T214632Z
SUMMARY:Open Gym Hardball
LOCATION:PMS-1-PMS Gymnasium (750)
URL;VALUE=URI:https://www.polson.k12.mt.us/polson-middle-school/calendar/87
 93526/open-gym-hardball
DTSTART:20260308T160000Z
DTEND:20260309T000000Z
END:VEVENT
END:VCALENDAR
