BEGIN:VCALENDAR
VERSION:2.0
PRODID:SchoolNow
CALSCALE:GREGORIAN
BEGIN:VEVENT
UID:0bbe967c-c0b1-11f0-95c0-0a58a9feac02
DTSTAMP:20251216T214632Z
SUMMARY:Open Gym Hardball
LOCATION:PMS-1-PMS Gymnasium (750)
URL;VALUE=URI:https://www.polson.k12.mt.us/polson-middle-school/calendar/87
 93525/open-gym-hardball
DTSTART:20260301T170000Z
DTEND:20260302T010000Z
END:VEVENT
END:VCALENDAR
