BEGIN:VCALENDAR
VERSION:2.0
PRODID:SchoolNow
CALSCALE:GREGORIAN
BEGIN:VEVENT
UID:0bbe92da-c0b1-11f0-9543-0a58a9feac02
DTSTAMP:20251216T214632Z
SUMMARY:Open Gym Hardball
LOCATION:PMS-1-PMS Gymnasium (750)
URL;VALUE=URI:https://www.polson.k12.mt.us/polson-middle-school/calendar/87
 93521/open-gym-hardball
DTSTART:20260201T170000Z
DTEND:20260202T010000Z
END:VEVENT
END:VCALENDAR
