BEGIN:VCALENDAR
VERSION:2.0
PRODID:SchoolNow
CALSCALE:GREGORIAN
BEGIN:VEVENT
UID:0b906c7a-c0b1-11f0-87ec-0a58a9feac02
DTSTAMP:20251216T214632Z
SUMMARY:MS BBB\; 7th WV/Stillwater 3- Day Tournament\; Game Times TBD
URL;VALUE=URI:https://www.polson.k12.mt.us/polson-middle-school/calendar/87
 93512/ms-bbb-7th-wv-stillwater-3-day-tournament-game-times-tbd
DTSTART:20251206T150000Z
DTEND:20251206T150100Z
END:VEVENT
END:VCALENDAR
