BEGIN:VCALENDAR
VERSION:2.0
PRODID:SchoolNow
CALSCALE:GREGORIAN
BEGIN:VEVENT
UID:0b906a9a-c0b1-11f0-a504-0a58a9feac02
DTSTAMP:20251216T214632Z
SUMMARY:MS BBB\; 7th WV/Stillwater Tournament\, Day 1\; Purple 3:00 pm\, Go
 ld 6:00pm
URL;VALUE=URI:https://www.polson.k12.mt.us/polson-middle-school/calendar/87
 93510/ms-bbb-7th-wv-stillwater-tournament-day-1-purple-3-00-pm-gold-6-00pm
DTSTART:20251204T220000Z
DTEND:20251205T040000Z
END:VEVENT
END:VCALENDAR
