BEGIN:VCALENDAR
VERSION:2.0
PRODID:SchoolNow
CALSCALE:GREGORIAN
BEGIN:VEVENT
UID:0b9068ba-c0b1-11f0-8ec8-0a58a9feac02
DTSTAMP:20251216T214632Z
SUMMARY:MS BBB- 8th KMS 3 Day Tournament- Game One- 3:30 pm
LOCATION:Kalispell Middle School\, 205 Northwest Ln\, Kalispell\, MT 59901\
 , USA
URL;VALUE=URI:https://www.polson.k12.mt.us/polson-middle-school/calendar/87
 93509/ms-bbb-8th-kms-3-day-tournament-game-one-3-30-pm
DTSTART:20251208T223000Z
DTEND:20251208T233000Z
END:VEVENT
END:VCALENDAR
