BEGIN:VCALENDAR
VERSION:2.0
PRODID:SchoolNow
CALSCALE:GREGORIAN
BEGIN:VEVENT
UID:0b906536-c0b1-11f0-9296-0a58a9feac02
DTSTAMP:20251216T214632Z
SUMMARY:MS BBB 7-7 vs. Ronan 4/5:15\; 8-8 @ Ronan 4/5:15 depart 2:45
LOCATION:PMS-1-PMS Gymnasium (750)
URL;VALUE=URI:https://www.polson.k12.mt.us/polson-middle-school/calendar/87
 93507/ms-bbb-7-7-vs-ronan-4-5-15-8-8-ronan-4-5-15-depart-2-45
DTSTART:20251202T230000Z
DTEND:20251203T020000Z
END:VEVENT
END:VCALENDAR
