BEGIN:VCALENDAR
VERSION:2.0
PRODID:SchoolNow
CALSCALE:GREGORIAN
BEGIN:VEVENT
UID:0b905e10-c0b1-11f0-bf97-0a58a9feac02
DTSTAMP:20251216T214632Z
SUMMARY:MS BBB- 8th KMS 3 Day Tournament- Game times TBD
URL;VALUE=URI:https://www.polson.k12.mt.us/polson-middle-school/calendar/87
 93504/ms-bbb-8th-kms-3-day-tournament-game-times-tbd
DTSTART:20251209T150000Z
DTEND:20251209T150100Z
END:VEVENT
END:VCALENDAR
