BEGIN:VCALENDAR
VERSION:2.0
PRODID:SchoolNow
CALSCALE:GREGORIAN
BEGIN:VEVENT
UID:1e61e0b8-beb3-11f0-9576-0a58a9feac02
DTSTAMP:20251216T214632Z
SUMMARY:Academic Bowl Ronan Competition #4
URL;VALUE=URI:https://www.polson.k12.mt.us/polson-middle-school/calendar/87
 88639/academic-bowl-ronan-competition-4
DTSTART;VALUE=DATE:20260304
DTEND;VALUE=DATE:20260305
END:VEVENT
END:VCALENDAR
