BEGIN:VCALENDAR
VERSION:2.0
PRODID:SchoolNow
CALSCALE:GREGORIAN
BEGIN:VEVENT
UID:1e61df64-beb3-11f0-9061-0a58a9feac02
DTSTAMP:20251216T214632Z
SUMMARY:Academic Bowl Mission Competition #2
URL;VALUE=URI:https://www.polson.k12.mt.us/polson-middle-school/calendar/87
 88638/academic-bowl-mission-competition-2
DTSTART;VALUE=DATE:20260128
DTEND;VALUE=DATE:20260129
END:VEVENT
END:VCALENDAR
