BEGIN:VCALENDAR
VERSION:2.0
PRODID:SchoolNow
CALSCALE:GREGORIAN
BEGIN:VEVENT
UID:1e61ddde-beb3-11f0-add3-0a58a9feac02
DTSTAMP:20251216T214632Z
SUMMARY:Academic Bowl Mixer @ Ronan
URL;VALUE=URI:https://www.polson.k12.mt.us/polson-middle-school/calendar/87
 88637/academic-bowl-mixer-ronan
DTSTART;VALUE=DATE:20251210
DTEND;VALUE=DATE:20251211
END:VEVENT
END:VCALENDAR
