BEGIN:VCALENDAR
VERSION:2.0
PRODID:SchoolNow
CALSCALE:GREGORIAN
BEGIN:VEVENT
UID:1e61dbcc-beb3-11f0-be97-0a58a9feac02
DTSTAMP:20251216T214632Z
SUMMARY:Academic Bowl Polson Competition #1
URL;VALUE=URI:https://www.polson.k12.mt.us/polson-middle-school/calendar/87
 88636/academic-bowl-polson-competition-1
DTSTART;VALUE=DATE:20260114
DTEND;VALUE=DATE:20260115
END:VEVENT
END:VCALENDAR
