BEGIN:VCALENDAR
VERSION:2.0
PRODID:SchoolNow
CALSCALE:GREGORIAN
BEGIN:VEVENT
UID:1e61d69a-beb3-11f0-931d-0a58a9feac02
DTSTAMP:20251216T214632Z
SUMMARY:Academic Bowl Charlo Competition #3
URL;VALUE=URI:https://www.polson.k12.mt.us/polson-middle-school/calendar/87
 88635/academic-bowl-charlo-competition-3
DTSTART;VALUE=DATE:20260211
DTEND;VALUE=DATE:20260212
END:VEVENT
END:VCALENDAR
