BEGIN:VCALENDAR
VERSION:2.0
PRODID:SchoolNow
CALSCALE:GREGORIAN
BEGIN:VEVENT
UID:3869b13a-be80-11f0-8be0-025140286091
DTSTAMP:20251216T214632Z
SUMMARY:Fierce Basketball 9-2:30
LOCATION:PMS-1-PMS Gymnasium (750)
URL;VALUE=URI:https://www.polson.k12.mt.us/polson-middle-school/calendar/87
 88046/fierce-basketball-9-2-30
DTSTART:20251122T160000Z
DTEND:20251122T213000Z
END:VEVENT
END:VCALENDAR
