BEGIN:VCALENDAR
VERSION:2.0
PRODID:SchoolNow
CALSCALE:GREGORIAN
BEGIN:VEVENT
UID:5b23d146-b9b8-11f0-91ff-0a58a9feac02
DTSTAMP:20251216T214632Z
SUMMARY:MS BBB 8/8 vs Kalispell 4/5:15 \; MS BBB 7/7 @ Kalispell 4/5:15 dep
 art 2:15
LOCATION:PMS-1-PMS Gymnasium (750)
URL;VALUE=URI:https://www.polson.k12.mt.us/polson-middle-school/calendar/87
 76914/ms-bbb-8-8-vs-kalispell-4-5-15-ms-bbb-7-7-kalispell-4-5-15-depart-2-
 15
DTSTART:20251113T230000Z
DTEND:20251114T020000Z
END:VEVENT
END:VCALENDAR
