BEGIN:VCALENDAR
VERSION:2.0
PRODID:SchoolNow
CALSCALE:GREGORIAN
BEGIN:VEVENT
UID:5b23cf3e-b9b8-11f0-abee-0a58a9feac02
DTSTAMP:20251216T214632Z
SUMMARY:MS BBB Gold 7/8 @ West Valley School (Kalispell) 4/5:15
URL;VALUE=URI:https://www.polson.k12.mt.us/polson-middle-school/calendar/87
 76913/ms-bbb-gold-7-8-west-valley-school-kalispell-4-5-15
DTSTART:20251107T230000Z
DTEND:20251108T030000Z
END:VEVENT
END:VCALENDAR
