BEGIN:VCALENDAR
VERSION:2.0
PRODID:SchoolNow
CALSCALE:GREGORIAN
BEGIN:VEVENT
UID:5b23ccb4-b9b8-11f0-a0e7-0a58a9feac02
DTSTAMP:20251216T214632Z
SUMMARY:MS BBB 8/8 vs Frenchtown 4/5:15 \; MS BBB 7/7 @ Frenchtown 4/5:15 d
 epart 1:45
LOCATION:PMS-1-PMS Gymnasium (750)
URL;VALUE=URI:https://www.polson.k12.mt.us/polson-middle-school/calendar/87
 76912/ms-bbb-8-8-vs-frenchtown-4-5-15-ms-bbb-7-7-frenchtown-4-5-15-depart-
 1-45
DTSTART:20251111T230000Z
DTEND:20251112T020000Z
END:VEVENT
END:VCALENDAR
