BEGIN:VCALENDAR
VERSION:2.0
PRODID:SchoolNow
CALSCALE:GREGORIAN
BEGIN:VEVENT
UID:5b23c7dc-b9b8-11f0-b75c-0a58a9feac02
DTSTAMP:20251216T214632Z
SUMMARY:MS BBB Purple 7/8 vs. Bigfork 4/5:15
LOCATION:PMS-1-PMS Gymnasium (750)
URL;VALUE=URI:https://www.polson.k12.mt.us/polson-middle-school/calendar/87
 76911/ms-bbb-purple-7-8-vs-bigfork-4-5-15
DTSTART:20251106T230000Z
DTEND:20251107T020000Z
END:VEVENT
END:VCALENDAR
