BEGIN:VCALENDAR
VERSION:2.0
PRODID:SchoolNow
CALSCALE:GREGORIAN
BEGIN:VEVENT
UID:8e094048-b457-11f0-b882-02ddd0e7a56b
DTSTAMP:20251216T214635Z
SUMMARY:PSD#23 Special School Board Meeting
URL;VALUE=URI:https://www.polson.k12.mt.us/polson-middle-school/calendar/87
 57902/psd-23-special-school-board-meeting
DTSTART:20251028T233000Z
DTEND:20251029T003000Z
ATTACH;FILENAME="PSD#23 Special School Board Meeting - 2025/10/28 16:46 MDT
  - Recording";FMTTYPE=application/octet-stream:https://drive.google.com/fi
 le/d/1qCOcAijLc1KpwDkpMKJXcS9AGTGIKV-K/view?usp=drive_web
END:VEVENT
END:VCALENDAR
