BEGIN:VCALENDAR
VERSION:2.0
PRODID:SchoolNow
CALSCALE:GREGORIAN
BEGIN:VEVENT
UID:8b48a14e-b3be-11f0-ae46-0affd7894e5b
DTSTAMP:20251216T214632Z
SUMMARY:Fierce Travel Ball Practice 10:30am - 12:30pm
LOCATION:PMS-1-PMS Gymnasium (750)
URL;VALUE=URI:https://www.polson.k12.mt.us/polson-middle-school/calendar/87
 56101/fierce-travel-ball-practice-10-30am-12-30pm
DTSTART:20251121T173000Z
DTEND:20251121T193000Z
END:VEVENT
END:VCALENDAR
