BEGIN:VCALENDAR
VERSION:2.0
PRODID:SchoolNow
CALSCALE:GREGORIAN
BEGIN:VEVENT
UID:8b48a05e-b3be-11f0-8719-0affd7894e5b
DTSTAMP:20251216T214632Z
SUMMARY:Fierce Travel Ball Practice 7:00pm - 8:30pm
LOCATION:PMS-1-PMS Gymnasium (750)
URL;VALUE=URI:https://www.polson.k12.mt.us/polson-middle-school/calendar/87
 56100/fierce-travel-ball-practice-7-00pm-8-30pm
DTSTART:20251121T020000Z
DTEND:20251121T033000Z
END:VEVENT
END:VCALENDAR
