BEGIN:VCALENDAR
VERSION:2.0
PRODID:SchoolNow
CALSCALE:GREGORIAN
BEGIN:VEVENT
UID:8b489c4e-b3be-11f0-8029-0affd7894e5b
DTSTAMP:20251216T214632Z
SUMMARY:Fierce Travel Ball Practice 7:00pm - 8:45pm
LOCATION:PMS-1-PMS Gymnasium (750)
URL;VALUE=URI:https://www.polson.k12.mt.us/polson-middle-school/calendar/87
 56096/fierce-travel-ball-practice-7-00pm-8-45pm
DTSTART:20251112T020000Z
DTEND:20251112T034500Z
END:VEVENT
END:VCALENDAR
