BEGIN:VCALENDAR
VERSION:2.0
PRODID:SchoolNow
CALSCALE:GREGORIAN
BEGIN:VEVENT
UID:cb649bd6-af5c-11f0-b25a-0afff5892ab1
DTSTAMP:20251216T214632Z
SUMMARY:Fierce Travel Ball Practice 7:00pm - 8:45pm
LOCATION:PMS-1-PMS Gymnasium (750)
URL;VALUE=URI:https://www.polson.k12.mt.us/polson-middle-school/calendar/87
 42503/fierce-travel-ball-practice-7-00pm-8-45pm
DTSTART:20251107T020000Z
DTEND:20251107T034500Z
END:VEVENT
END:VCALENDAR
