BEGIN:VCALENDAR
VERSION:2.0
PRODID:SchoolNow
CALSCALE:GREGORIAN
BEGIN:VEVENT
UID:ccb52dc8-aec3-11f0-bd8a-0a58a9feac02
DTSTAMP:20251216T214632Z
SUMMARY:Open Gym Softball
URL;VALUE=URI:https://www.polson.k12.mt.us/polson-middle-school/calendar/87
 39907/open-gym-softball
DTSTART:20260320T010000Z
DTEND:20260320T020000Z
END:VEVENT
END:VCALENDAR
