BEGIN:VCALENDAR
VERSION:2.0
PRODID:SchoolNow
CALSCALE:GREGORIAN
BEGIN:VEVENT
UID:ccb521ca-aec3-11f0-a1ee-0a58a9feac02
DTSTAMP:20251216T214632Z
SUMMARY:Open Gym Softball
URL;VALUE=URI:https://www.polson.k12.mt.us/polson-middle-school/calendar/87
 39898/open-gym-softball
DTSTART:20260218T020000Z
DTEND:20260218T030000Z
END:VEVENT
END:VCALENDAR
