BEGIN:VCALENDAR
VERSION:2.0
PRODID:SchoolNow
CALSCALE:GREGORIAN
BEGIN:VEVENT
UID:ccb51f7c-aec3-11f0-a641-0a58a9feac02
DTSTAMP:20251216T214632Z
SUMMARY:Open Gym Softball
URL;VALUE=URI:https://www.polson.k12.mt.us/polson-middle-school/calendar/87
 39896/open-gym-softball
DTSTART:20260211T020000Z
DTEND:20260211T030000Z
END:VEVENT
END:VCALENDAR
