BEGIN:VCALENDAR
VERSION:2.0
PRODID:SchoolNow
CALSCALE:GREGORIAN
BEGIN:VEVENT
UID:ccb5047e-aec3-11f0-8fcd-0a58a9feac02
DTSTAMP:20251216T214632Z
SUMMARY:Open Gym Softball
URL;VALUE=URI:https://www.polson.k12.mt.us/polson-middle-school/calendar/87
 39882/open-gym-softball
DTSTART:20251224T020000Z
DTEND:20251224T030000Z
END:VEVENT
END:VCALENDAR
