BEGIN:VCALENDAR
VERSION:2.0
PRODID:SchoolNow
CALSCALE:GREGORIAN
BEGIN:VEVENT
UID:ccb4eb6a-aec3-11f0-b17b-0a58a9feac02
DTSTAMP:20251216T214632Z
SUMMARY:Fierce Tryouts 6:45-8:00\, 5th - 8th grades
LOCATION:Polson Middle School\, 1602 2nd St W\, Polson\, MT 59860\, USA\, P
 MS-1-PMS Gymnasium (750)
URL;VALUE=URI:https://www.polson.k12.mt.us/polson-middle-school/calendar/87
 39873/fierce-tryouts-6-45-8-00-5th-8th-grades
DTSTART:20251104T020000Z
DTEND:20251104T030000Z
END:VEVENT
END:VCALENDAR
