BEGIN:VCALENDAR
VERSION:2.0
PRODID:SchoolNow
CALSCALE:GREGORIAN
BEGIN:VEVENT
UID:d456ceac-ae90-11f0-a97d-0a58a9feac02
DTSTAMP:20251216T214632Z
SUMMARY:MS BBB vs. Ronan 8th Gold/8th Purple 4:00/5:15\; 7th Gold/7th Purpl
 e @ Ronan 4:00/5:15
LOCATION:PMS-1-PMS Gymnasium (750)
URL;VALUE=URI:https://www.polson.k12.mt.us/polson-middle-school/calendar/87
 38253/ms-bbb-vs-ronan-8th-gold-8th-purple-4-00-5-15-7th-gold-7th-purple-ro
 nan-4-00-5-15
DTSTART:20251104T230000Z
DTEND:20251105T020000Z
END:VEVENT
END:VCALENDAR
