BEGIN:VCALENDAR
VERSION:2.0
PRODID:SchoolNow
CALSCALE:GREGORIAN
BEGIN:VEVENT
UID:daea3fb4-aaae-11f0-8aab-02b5736edd8f
DTSTAMP:20251216T214632Z
SUMMARY:EF Paris Trip Meeting w/ Mr. Ross
LOCATION:PMS Band Room
URL;VALUE=URI:https://www.polson.k12.mt.us/polson-middle-school/calendar/87
 26960/ef-paris-trip-meeting-w-mr-ross
DTSTART:20251031T000000Z
DTEND:20251031T010000Z
END:VEVENT
END:VCALENDAR
