BEGIN:VCALENDAR
VERSION:2.0
PRODID:SchoolNow
CALSCALE:GREGORIAN
BEGIN:VEVENT
UID:ef653eca-a9e2-11f0-8c6c-0affdaeadd8d
DTSTAMP:20251216T214632Z
SUMMARY:Middle School Boys Basketball 1st Practice- ALL- 3:45 @ PMS Gym
LOCATION:PMS-1-PMS Gymnasium (750)
URL;VALUE=URI:https://www.polson.k12.mt.us/polson-middle-school/calendar/87
 24302/middle-school-boys-basketball-1st-practice-all-3-45-pms-gym
DTSTART:20251020T214500Z
DTEND:20251020T231500Z
END:VEVENT
END:VCALENDAR
