BEGIN:VCALENDAR
VERSION:2.0
PRODID:SchoolNow
CALSCALE:GREGORIAN
BEGIN:VEVENT
UID:ef653b3c-a9e2-11f0-8c0b-0affdaeadd8d
DTSTAMP:20251216T214632Z
SUMMARY:MS BBB- 4/5:15- 7/8 Purple (Away) @ Whitefish\; 7/8 Gold (Home) vs.
  Whitefish
LOCATION:PMS-1-PMS Gymnasium (750)
URL;VALUE=URI:https://www.polson.k12.mt.us/polson-middle-school/calendar/87
 24301/ms-bbb-4-5-15-7-8-purple-away-whitefish-7-8-gold-home-vs-whitefish
DTSTART:20251030T220000Z
DTEND:20251031T003000Z
END:VEVENT
END:VCALENDAR
