BEGIN:VCALENDAR
VERSION:2.0
PRODID:SchoolNow
CALSCALE:GREGORIAN
BEGIN:VEVENT
UID:430402fa-a2ea-11f0-a905-0a58a9feac02
DTSTAMP:20251216T214632Z
SUMMARY:7th VB Tourney @ West Valley- Times TBD by bracket play
URL;VALUE=URI:https://www.polson.k12.mt.us/polson-middle-school/calendar/86
 99928/7th-vb-tourney-west-valley-times-tbd-by-bracket-play
DTSTART;VALUE=DATE:20251006
DTEND;VALUE=DATE:20251009
END:VEVENT
END:VCALENDAR
