BEGIN:VCALENDAR
VERSION:2.0
PRODID:SchoolNow
CALSCALE:GREGORIAN
BEGIN:VEVENT
UID:6378df42-9fed-11f0-b9cd-0e9cf9ef4c61
DTSTAMP:20251216T214632Z
SUMMARY:6/7th grade Football@ Mission 4:30 Kickoff
URL;VALUE=URI:https://www.polson.k12.mt.us/polson-middle-school/calendar/86
 89140/6-7th-grade-football-mission-4-30-kickoff
DTSTART:20251009T223000Z
DTEND:20251009T233000Z
END:VEVENT
END:VCALENDAR
