BEGIN:VCALENDAR
VERSION:2.0
PRODID:SchoolNow
CALSCALE:GREGORIAN
BEGIN:VEVENT
UID:75c517c6-9e88-11f0-aa32-0e265baa1807
DTSTAMP:20251216T214632Z
SUMMARY:PATT Meeting
URL;VALUE=URI:https://www.polson.k12.mt.us/polson-middle-school/calendar/86
 82625/patt-meeting
DTSTART:20251104T013000Z
DTEND:20251104T023000Z
ATTACH;FILENAME="PATT Meeting - 2025/11/03 18:29 MST - Recording";FMTTYPE=a
 pplication/octet-stream:https://drive.google.com/file/d/19JuQAKnrBQhsnQy0G
 BvWQwjWHiHIDTHO/view?usp=drive_web
END:VEVENT
END:VCALENDAR
