BEGIN:VCALENDAR
VERSION:2.0
PRODID:SchoolNow
CALSCALE:GREGORIAN
BEGIN:VEVENT
UID:75c5144c-9e88-11f0-bc2f-0e265baa1807
DTSTAMP:20251216T214632Z
SUMMARY:Family Movie Event
URL;VALUE=URI:https://www.polson.k12.mt.us/polson-middle-school/calendar/86
 82624/family-movie-event
DTSTART:20251012T020000Z
DTEND:20251012T040000Z
END:VEVENT
END:VCALENDAR
