BEGIN:VCALENDAR
VERSION:2.0
PRODID:SchoolNow
CALSCALE:GREGORIAN
BEGIN:VEVENT
UID:957d76a4-9d56-11f0-84c5-0a58a9feac02
DTSTAMP:20251216T214632Z
SUMMARY:Picture Retakes
URL;VALUE=URI:https://www.polson.k12.mt.us/polson-middle-school/calendar/86
 76926/picture-retakes
DTSTART;VALUE=DATE:20251003
DTEND;VALUE=DATE:20251004
END:VEVENT
END:VCALENDAR
