BEGIN:VCALENDAR
VERSION:2.0
PRODID:SchoolNow
CALSCALE:GREGORIAN
BEGIN:VEVENT
UID:bf60c540-98f4-11f0-85df-0a58a9feac02
DTSTAMP:20251216T214632Z
SUMMARY:MS 8th Grade VB- Stillwater Tourney\, Oct. 2\,3\,4
URL;VALUE=URI:https://www.polson.k12.mt.us/polson-middle-school/calendar/86
 58161/ms-8th-grade-vb-stillwater-tourney-oct-2-3-4
DTSTART:20251002T150000Z
DTEND:20251003T030000Z
END:VEVENT
END:VCALENDAR
