BEGIN:VCALENDAR
VERSION:2.0
PRODID:SchoolNow
CALSCALE:GREGORIAN
BEGIN:VEVENT
UID:bf60c342-98f4-11f0-bf46-0a58a9feac02
DTSTAMP:20251216T214632Z
SUMMARY:Polson Middle School Girls Basketball Open Gym- 6:30-8:00
URL;VALUE=URI:https://www.polson.k12.mt.us/polson-middle-school/calendar/86
 58159/polson-middle-school-girls-basketball-open-gym-6-30-8-00
DTSTART:20251023T003000Z
DTEND:20251023T020000Z
ATTACH;FILENAME=basket.png;FMTTYPE=image/png:https://drive.google.com/open?
 id=1ubI7EoP1ubr7iZ3tykoxVKzR9Q6o5ZI5
END:VEVENT
END:VCALENDAR
