BEGIN:VCALENDAR
VERSION:2.0
PRODID:SchoolNow
CALSCALE:GREGORIAN
BEGIN:VEVENT
UID:f18fdf3e-97c2-11f0-b191-0afffb2ad397
DTSTAMP:20251216T214632Z
SUMMARY:MS Cross Country @ Glacier Invite (Rebecca Farms) B- 1:00\, G- 1:30
 \, Depart 10:30
URL;VALUE=URI:https://www.polson.k12.mt.us/polson-middle-school/calendar/86
 52255/ms-cross-country-glacier-invite-rebecca-farms-b-1-00-g-1-30-depart-1
 0-30
DTSTART:20251015T190000Z
DTEND:20251015T200000Z
END:VEVENT
END:VCALENDAR
